BEGIN:VCALENDAR
VERSION:2.0
PRODID:-//ExpressionEngine Easy iCalendar plugin//NONSGML v2.0.0//EN
X-WR-TIMEZONE:America/New_York
X-WR-CALNAME:Upcoming Auctions
BEGIN:VEVENT
UID:160765
DTSTAMP:20260420T110000
DTSTART:20260420T110000
DTEND:20260427T170000
SUMMARY:Heath Ohio Online Auction April 27th
LOCATION:863 S 30th St\, Heath\, OH 43056\, US
DESCRIPTION:Heath Ohio Online Auction April 27th Pickup April 28th 4-7
  PM
URL:https://www.wyethauctions.com/auctions/detail/bw160765
SEQUENCE:1
END:VEVENT
END:VCALENDAR