BEGIN:VCALENDAR
VERSION:2.0
PRODID:-//ExpressionEngine Easy iCalendar plugin//NONSGML v2.0.1//EN
X-WR-TIMEZONE:America/New_York
X-WR-CALNAME:Upcoming Auctions
BEGIN:VEVENT
UID:160937
DTSTAMP:20260422T120000
DTSTART:20260422T120000
DTEND:20260503T170000
SUMMARY:Newark Online Auction May 3rd
LOCATION:831 Buckeye Ave \, Newark\, OH 43055\, US
DESCRIPTION:Newark Online Auction May 3rd Pickup May 4th 4-7pm
URL:https://www.wyethauctions.com/auctions/detail/bw160937
SEQUENCE:1
END:VEVENT
END:VCALENDAR